BEGIN:VCALENDAR
VERSION:2.0
PRODID:-//ADM+S Centre - ECPv6.15.20//NONSGML v1.0//EN
CALSCALE:GREGORIAN
METHOD:PUBLISH
X-ORIGINAL-URL:https://www.admscentre.org.au
X-WR-CALDESC:Events for ADM+S Centre
REFRESH-INTERVAL;VALUE=DURATION:PT1H
X-Robots-Tag:noindex
X-PUBLISHED-TTL:PT1H
BEGIN:VTIMEZONE
TZID:Australia/Melbourne
BEGIN:STANDARD
TZOFFSETFROM:+1100
TZOFFSETTO:+1000
TZNAME:AEST
DTSTART:20250405T160000
END:STANDARD
BEGIN:DAYLIGHT
TZOFFSETFROM:+1000
TZOFFSETTO:+1100
TZNAME:AEDT
DTSTART:20251004T160000
END:DAYLIGHT
BEGIN:STANDARD
TZOFFSETFROM:+1100
TZOFFSETTO:+1000
TZNAME:AEST
DTSTART:20260404T160000
END:STANDARD
BEGIN:DAYLIGHT
TZOFFSETFROM:+1000
TZOFFSETTO:+1100
TZNAME:AEDT
DTSTART:20261003T160000
END:DAYLIGHT
BEGIN:STANDARD
TZOFFSETFROM:+1100
TZOFFSETTO:+1000
TZNAME:AEST
DTSTART:20270403T160000
END:STANDARD
BEGIN:DAYLIGHT
TZOFFSETFROM:+1000
TZOFFSETTO:+1100
TZNAME:AEDT
DTSTART:20271002T160000
END:DAYLIGHT
END:VTIMEZONE
BEGIN:VEVENT
DTSTART;TZID=Australia/Melbourne:20260430T080000
DTEND;TZID=Australia/Melbourne:20260430T080000
DTSTAMP:20260422T214155
CREATED:20260212T005616Z
LAST-MODIFIED:20260223T001709Z
UID:31686-1777536000-1777536000@www.admscentre.org.au
SUMMARY:Blockchain Security: Code\, Crisis\, Community
DESCRIPTION:[vc_row][vc_column][vc_custom_heading text=”Join us for a seminar where Kelsie Nabben will discuss critical insights from her forthcoming book “Blockchain Security: Code\, Crisis\, Community“.” font_container=”tag:h1|text_align:left|color:%23ffffff” css=””][/vc_column][/vc_row][vc_row css=”.vc_custom_1651551961626{padding-top: -35px !important;background-color: #ffd600 !important;}”][vc_column][vc_column_text css=””]​For this seminar\, Dr. Kelsie Nabben will be presenting on her newly released book “Blockchain Security: Code\, Crisis\, Community.” This book is the first to document how security occurs within decentralised blockchain communities from a sociological perspective. It provokes questions relevant to the Metagov community of non-state governance\, hacker ethics\, and the future of cybersecurity. ​\nKelsie’s book explores this topic through a deep ethnographic dive into blockchain ecosystems—with a focus on security not only as a technical property\, but also a social practice. \nThe book draws on years of ethnographic research conducted as major incidents unfolded across blockchain ecosystems—often in real time. It follows the engineers\, white-hat hackers\, and other community responders who collectively respond\, rescue\, pause\, repair\, postmortem and prepare for the next crises (notably\, the not-for-profit Security Alliance\, or SEAL). \n​​​​The seminar is intended for researchers and practitioners in online governance\, broadly defined. We welcome guests and curious members of the public. Note that the discussion is moderated.[/vc_column_text][/vc_column][/vc_row][vc_row css=”.vc_custom_1770854923199{padding-top: -35px !important;background-color: #ffd600 !important;}”][vc_column][vc_btn title=”REGISTER NOW” style=”custom” custom_background=”#FFD600″ custom_text=”#000000″ size=”lg” align=”left” css=”” link=”url:https%3A%2F%2Fluma.com%2Faxkn6hgs|target:_blank”][vc_empty_space][/vc_column][/vc_row]
URL:https://www.admscentre.org.au/event/blockchain-security-code-crisis-community/
LOCATION:Online
CATEGORIES:Online
ATTACH;FMTTYPE=image/jpeg:https://www.admscentre.org.au/wp-content/uploads/2026/02/Blockchain-Security-2.jpg
END:VEVENT
BEGIN:VEVENT
DTSTART;VALUE=DATE:20261027
DTEND;VALUE=DATE:20261030
DTSTAMP:20260422T214155
CREATED:20260422T055101Z
LAST-MODIFIED:20260422T064126Z
UID:32118-1793059200-1793318399@www.admscentre.org.au
SUMMARY:Call For Submissions for the 2026 ADM+S Sympodium - Automated Human and Planetary Health
DESCRIPTION:[vc_row][vc_column][vc_custom_heading text=”Automated technologies can contribute to or undermine human and planetary health. The 2026 ADM+S Symposium focuses on current research from across the Centre that seeks to better understand the complex interconnections between automated systems and the health of people and the ecosystems of which we are part” font_container=”tag:h1|text_align:left|color:%23ffffff” css=””][/vc_column][/vc_row][vc_row css=”.vc_custom_1651551961626{padding-top: -35px !important;background-color: #ffd600 !important;}”][vc_column][vc_column_text css=””] \n\n\nIn Australia\, our burgeoning digital health sector is using automated decision-making (ADM) and AI to improve access to healthcare\, enhanced treatment protocols\, better diagnosis\, monitoring and prediction models\, and more personally tailored care. However\, many consumer and industry organisations\, including some of our partner organisations\, have identified potential risks posed by ADM to trust\, equitable access\, safety\, privacy\, transparency and social justice in healthcare and public health. \nADM and AI technologies are also used to maintain and monitor aspects of the environment\, including the health of animals\, plants and the quality of air\, water and soil. Here again\, there are manifold potential benefits and risks of these applications\, including issues related to ecological and multi-species justice and detrimental impacts such as increased e-waste\, carbon emissions\, water consumption and air pollution related to digital infrastructures. \nThis symposium provides a timely forum for considering the applications\, use cases and social\, political\, ethical\, legal and environmental consequences of these technologies in the context of automated human and planetary health. \nWe now invite expressions of interest for a multi-day symposium showcasing research from the Health Focus Area across ADM+S. Broadly defining health as related to both people and ecosystems\, we are seeking a mix of papers aimed at generating more traditional outputs as well as interactive workshops aimed at non-traditional outputs. Demonstrations of tools\, systems\, resources and creative research methods that have been developed by ADM+S members are also encouraged as contributions to the symposium. Panels and sessions involving industry partners\, health consumers with lived experience\, and diverse groups of presenters (by gender\, ethnicity\, career stage\, membership type) are strongly encouraged. \nEvent Details \nThe symposium will be held at the Caufield campus of Monash University\, Victoria between Tuesday 27 and Thursday 29 October 2026. It will be organised and conducted in accordance with relevant ADM+S policies\, including: the Code of Conduct; Equity\, Diversity\, and Inclusion Strategy; and the Accessible Meetings and Events Policy. Online participation will be enabled for remote presenters and attendees. There will be no registration fee for presenters or attendees.\nMore information here: https://www.admscentre.org.au/adms-policies/ \nTimeline \n\n250 word abstracts due: 10:00 am (AEST) Friday 22 May\nNotification of outcome: on or before Monday 29 June\nFinal Session description (including speakers info) due: Friday 24 July\n\n\n\nOrganising Team \n\nProfessor Deborah Lupton (UNSW)\nProfessor Anthony McCosker (Swinburne University of Technology)\nProfessor Nicholas Carah (University of Queensland)\nProfessor Kath Albury (Swinburne University of Technology)\nDr Bronwyn Bailey-Charteris (UNSW)\nDr Giselle Newton (University of Queensland)\nChief Operating Officer Nicholas Walsh (RMIT)\nNode Administrator Til Knowles (Monash University)\nOutreach and Partnerships Officer Matt Warren (RMIT)\n\nContact Information \nAny questions please contact admsevents@rmit.edu.au \n\n[/vc_column_text][/vc_column][/vc_row][vc_row css=”.vc_custom_1758694850249{padding-top: -35px !important;background-color: #ffd600 !important;}”][vc_column][vc_btn title=”SUBMIT YOUR EOI” style=”custom” custom_background=”#00BF63″ custom_text=”#000000″ size=”lg” align=”left” css=”” link=”url:https%3A%2F%2Fdocs.google.com%2Fforms%2Fd%2Fe%2F1FAIpQLScBsDdJRaZY4GO0OeoV2wSDAp0jCpm27YQww8orGLm3yEI_Xw%2Fviewform%3Fusp%3Dheader|target:_blank”][/vc_column][/vc_row][vc_row disable_element=”yes” css=”.vc_custom_1776305698312{padding-top: -35px !important;background-color: #ffd600 !important;}”][vc_column][vc_custom_heading text=”ABOUT THE SPEAKERS” font_container=”tag:h4|font_size:22px|text_align:left|color:%23ffffff|line_height:23px” use_theme_fonts=”yes” css=””][vc_row_inner][vc_column_inner width=”1/4″ offset=”vc_col-xs-6″][vc_single_image image=”974″ img_size=”full” style=”vc_box_circle_2″ css=””][/vc_column_inner][vc_column_inner width=”3/4″ offset=”vc_col-xs-6″][vc_column_text css=””]Daniel Angus\nProf. Daniel Angus is Professor of Digital Communication in the School of Communication\, and Director of QUT’s Digital Media Research Centre. Daniel’s research examines issues at the intersection of technology and society\, with a focus on artificial intelligence\, automation\, misinformation\, and new methods to study the digital society.\n[/vc_column_text][/vc_column_inner][/vc_row_inner][vc_row_inner][vc_column_inner width=”1/4″ offset=”vc_col-xs-6″][vc_single_image image=”11654″ img_size=”full” style=”vc_box_circle_2″ css=””][/vc_column_inner][vc_column_inner width=”3/4″ offset=”vc_col-xs-6″][vc_column_text css=””]Nic Carah\nProf Nic Carah is Director of the Centre for Digital Cultures & Societies in the Faculty of Humanities\, Arts and Social Sciences and Professor in the School of Communication and Arts. He is an Associate Investigator in the ARC Centre of Excellence for Automated Decision-Making and Society\, and a Chief Investigator on ARC Discovery and Linkage projects. Nicholas’ research examines the algorithmic and participatory advertising model of digital media platforms\, with a sustained focus on digital alcohol marketing.[/vc_column_text][/vc_column_inner][/vc_row_inner][vc_row_inner][vc_column_inner width=”1/4″ offset=”vc_col-xs-6″][vc_single_image image=”7751″ img_size=”full” style=”vc_box_circle_2″ css=””][/vc_column_inner][vc_column_inner width=”3/4″ offset=”vc_col-xs-6″][vc_column_text css=””]Amanda Lawrence\nDr Amanda Lawrence is Engagement Lead at Australian Internet Observatory based at RMIT University. She has a PhD in media and communication and is a qualified librarian. Previous roles include Research Fellow at ADM+S\, Program Director at AIO\, Director of Australian Policy Online and Literature Program Manager at the Asialink Centre\, University of Melbourne.[/vc_column_text][/vc_column_inner][/vc_row_inner][/vc_column][/vc_row]
URL:https://www.admscentre.org.au/event/2026-symposium-eoi/
LOCATION:Online
CATEGORIES:ADM+S Members Only,Melbourne,Online
ATTACH;FMTTYPE=image/jpeg:https://www.admscentre.org.au/wp-content/uploads/2026/04/2026-Symp-1.jpg
END:VEVENT
END:VCALENDAR